BEGIN:VCALENDAR
VERSION:2.0
PRODID:-//Italian Heritage Month - ECPv6.15.11//NONSGML v1.0//EN
CALSCALE:GREGORIAN
METHOD:PUBLISH
X-WR-CALNAME:Italian Heritage Month
X-ORIGINAL-URL:https://www.italianheritagemonth.com
X-WR-CALDESC:Events for Italian Heritage Month
REFRESH-INTERVAL;VALUE=DURATION:PT1H
X-Robots-Tag:noindex
X-PUBLISHED-TTL:PT1H
BEGIN:VTIMEZONE
TZID:America/New_York
BEGIN:DAYLIGHT
TZOFFSETFROM:-0500
TZOFFSETTO:-0400
TZNAME:EDT
DTSTART:20210314T070000
END:DAYLIGHT
BEGIN:STANDARD
TZOFFSETFROM:-0400
TZOFFSETTO:-0500
TZNAME:EST
DTSTART:20211107T060000
END:STANDARD
BEGIN:DAYLIGHT
TZOFFSETFROM:-0500
TZOFFSETTO:-0400
TZNAME:EDT
DTSTART:20220313T070000
END:DAYLIGHT
BEGIN:STANDARD
TZOFFSETFROM:-0400
TZOFFSETTO:-0500
TZNAME:EST
DTSTART:20221106T060000
END:STANDARD
BEGIN:DAYLIGHT
TZOFFSETFROM:-0500
TZOFFSETTO:-0400
TZNAME:EDT
DTSTART:20230312T070000
END:DAYLIGHT
BEGIN:STANDARD
TZOFFSETFROM:-0400
TZOFFSETTO:-0500
TZNAME:EST
DTSTART:20231105T060000
END:STANDARD
BEGIN:DAYLIGHT
TZOFFSETFROM:-0500
TZOFFSETTO:-0400
TZNAME:EDT
DTSTART:20240310T070000
END:DAYLIGHT
BEGIN:STANDARD
TZOFFSETFROM:-0400
TZOFFSETTO:-0500
TZNAME:EST
DTSTART:20241103T060000
END:STANDARD
BEGIN:DAYLIGHT
TZOFFSETFROM:-0500
TZOFFSETTO:-0400
TZNAME:EDT
DTSTART:20250309T070000
END:DAYLIGHT
BEGIN:STANDARD
TZOFFSETFROM:-0400
TZOFFSETTO:-0500
TZNAME:EST
DTSTART:20251102T060000
END:STANDARD
BEGIN:DAYLIGHT
TZOFFSETFROM:-0500
TZOFFSETTO:-0400
TZNAME:EDT
DTSTART:20260308T070000
END:DAYLIGHT
BEGIN:STANDARD
TZOFFSETFROM:-0400
TZOFFSETTO:-0500
TZNAME:EST
DTSTART:20261101T060000
END:STANDARD
END:VTIMEZONE
BEGIN:VEVENT
DTSTART;VALUE=DATE:20251030
DTEND;VALUE=DATE:20251031
DTSTAMP:20260423T101650
CREATED:20250903T205947Z
LAST-MODIFIED:20250903T205947Z
UID:509-1761782400-1761868799@www.italianheritagemonth.com
SUMMARY:"Arlecchino il servo di due padroni/Arlecchino servant of two masters"
DESCRIPTION:A theatrical performance by the Italian theater company “I fuggitivi” at Consulate General of Italy (Morris Auditorium)
URL:https://www.italianheritagemonth.com/event/arlecchino-il-servo-di-due-padroni-arlecchino-servant-of-two-masters/
END:VEVENT
BEGIN:VEVENT
DTSTART;VALUE=DATE:20251027
DTEND;VALUE=DATE:20251031
DTSTAMP:20260423T101650
CREATED:20250903T205909Z
LAST-MODIFIED:20250903T205909Z
UID:507-1761523200-1761868799@www.italianheritagemonth.com
SUMMARY:Italian Language Creativity Labs
DESCRIPTION:Theater; Music; Silk; Dante App – at Consulate General of Italy (Beehive)
URL:https://www.italianheritagemonth.com/event/italian-language-creativity-labs/
END:VEVENT
BEGIN:VEVENT
DTSTART;VALUE=DATE:20251022
DTEND;VALUE=DATE:20251023
DTSTAMP:20260423T101650
CREATED:20250903T205807Z
LAST-MODIFIED:20250903T205807Z
UID:505-1761091200-1761177599@www.italianheritagemonth.com
SUMMARY:Salvemini Colloquim
DESCRIPTION:by Prof. Renato Camurri and Prof. Lino Pertile at Harvard
URL:https://www.italianheritagemonth.com/event/salvemini-colloquim/
END:VEVENT
BEGIN:VEVENT
DTSTART;TZID=America/New_York:20251021T200000
DTEND;TZID=America/New_York:20251021T230000
DTSTAMP:20260423T101650
CREATED:20250903T205740Z
LAST-MODIFIED:20250903T205740Z
UID:503-1761076800-1761087600@www.italianheritagemonth.com
SUMMARY:"Italian Songbook with Scanzonati: a Musical Journey with Stefano Marchese\, Andrea Pejrolo & Friends"
DESCRIPTION:At Berklee Performance Center.
URL:https://www.italianheritagemonth.com/event/italian-songbook-with-scanzonati-a-musical-journey-with-stefano-marchese-andrea-pejrolo-friends/
END:VEVENT
BEGIN:VEVENT
DTSTART;TZID=America/New_York:20251016T160000
DTEND;TZID=America/New_York:20251016T180000
DTSTAMP:20260423T101650
CREATED:20250903T205638Z
LAST-MODIFIED:20250903T205638Z
UID:501-1760630400-1760637600@www.italianheritagemonth.com
SUMMARY:OIHM and City of Revere Celebration
DESCRIPTION:
URL:https://www.italianheritagemonth.com/event/oihm-and-city-of-revere-celebration/
END:VEVENT
BEGIN:VEVENT
DTSTART;VALUE=DATE:20251016
DTEND;VALUE=DATE:20251017
DTSTAMP:20260423T101650
CREATED:20250903T205558Z
LAST-MODIFIED:20250903T205558Z
UID:499-1760572800-1760659199@www.italianheritagemonth.com
SUMMARY:Week of Italian Language - "La lingua italiani nel Rinascimento"\,
DESCRIPTION:Cultural event presented by Prof. Matteo Casini
URL:https://www.italianheritagemonth.com/event/week-of-italian-language-la-lingua-italiani-nel-rinascimento/
END:VEVENT
BEGIN:VEVENT
DTSTART;VALUE=DATE:20251014
DTEND;VALUE=DATE:20251015
DTSTAMP:20260423T101650
CREATED:20250903T205522Z
LAST-MODIFIED:20250903T205522Z
UID:497-1760400000-1760486399@www.italianheritagemonth.com
SUMMARY:Week of Italian Language - Launch Event
DESCRIPTION:
URL:https://www.italianheritagemonth.com/event/week-of-italian-language-launch-event/
END:VEVENT
BEGIN:VEVENT
DTSTART;TZID=America/New_York:20251013T090000
DTEND;TZID=America/New_York:20251013T110000
DTSTAMP:20260423T101650
CREATED:20250903T205344Z
LAST-MODIFIED:20250903T205350Z
UID:493-1760346000-1760353200@www.italianheritagemonth.com
SUMMARY:Columbus Day Breakfast at Dante Alighieri Society
DESCRIPTION:With remarks by Steven Puleo
URL:https://www.italianheritagemonth.com/event/columbus-day-breakfast-at-dante-alighieri-society/
END:VEVENT
BEGIN:VEVENT
DTSTART;VALUE=DATE:20251013
DTEND;VALUE=DATE:20251020
DTSTAMP:20260423T101650
CREATED:20250903T205444Z
LAST-MODIFIED:20250903T205444Z
UID:495-1760313600-1760918399@www.italianheritagemonth.com
SUMMARY:Week of Italian Language - "ltalofonia: Lingua Oltre I Confini"
DESCRIPTION:
URL:https://www.italianheritagemonth.com/event/week-of-italian-language-ltalofonia-lingua-oltre-i-confini/
END:VEVENT
BEGIN:VEVENT
DTSTART;VALUE=DATE:20251010
DTEND;VALUE=DATE:20251011
DTSTAMP:20260423T101650
CREATED:20250903T205300Z
LAST-MODIFIED:20250903T205300Z
UID:491-1760054400-1760140799@www.italianheritagemonth.com
SUMMARY:Italian Heritage Golf Classic
DESCRIPTION:
URL:https://www.italianheritagemonth.com/event/italian-heritage-golf-classic/
END:VEVENT
BEGIN:VEVENT
DTSTART;TZID=America/New_York:20251009T170000
DTEND;TZID=America/New_York:20251009T180000
DTSTAMP:20260423T101650
CREATED:20250903T205157Z
LAST-MODIFIED:20250903T205157Z
UID:489-1760029200-1760032800@www.italianheritagemonth.com
SUMMARY:OIHM Flag raising event at Somerville City Hall
DESCRIPTION:
URL:https://www.italianheritagemonth.com/event/oihm-flag-raising-event-at-somerville-city-hall/
END:VEVENT
BEGIN:VEVENT
DTSTART;VALUE=DATE:20251007
DTEND;VALUE=DATE:20251010
DTSTAMP:20260423T101650
CREATED:20250903T204705Z
LAST-MODIFIED:20250903T204705Z
UID:487-1759795200-1760054399@www.italianheritagemonth.com
SUMMARY:STB (Science\, Technology and Business) Days at Consulate General of Italy
DESCRIPTION:
URL:https://www.italianheritagemonth.com/event/stb-science-technology-and-business-days-at-consulate-general-of-italy/
END:VEVENT
BEGIN:VEVENT
DTSTART;TZID=America/New_York:20251005T120000
DTEND;TZID=America/New_York:20251005T140000
DTSTAMP:20260423T101650
CREATED:20250903T204635Z
LAST-MODIFIED:20250903T204635Z
UID:485-1759665600-1759672800@www.italianheritagemonth.com
SUMMARY:October Italian Heritage Unity Mass
DESCRIPTION:
URL:https://www.italianheritagemonth.com/event/october-italian-heritage-unity-mass/
END:VEVENT
BEGIN:VEVENT
DTSTART;TZID=America/New_York:20251002T120000
DTEND;TZID=America/New_York:20251002T130000
DTSTAMP:20260423T101650
CREATED:20250903T204426Z
LAST-MODIFIED:20250903T204426Z
UID:481-1759406400-1759410000@www.italianheritagemonth.com
SUMMARY:Flag Raising Event at Boston City Hall
DESCRIPTION:
URL:https://www.italianheritagemonth.com/event/flag-raising-event-at-boston-city-hall/
END:VEVENT
BEGIN:VEVENT
DTSTART;VALUE=DATE:20251002
DTEND;VALUE=DATE:20251003
DTSTAMP:20260423T101650
CREATED:20250903T204551Z
LAST-MODIFIED:20250903T204551Z
UID:483-1759363200-1759449599@www.italianheritagemonth.com
SUMMARY:"Rossini\, il Gusto Della Musica"
DESCRIPTION:“Rossini\, il Gusto Della Musica”\, cultural event presented by Manuele Morgese and Nicolas Giusti (piano) at Dante Alighieri Society
URL:https://www.italianheritagemonth.com/event/rossini-il-gusto-della-musica/
END:VEVENT
BEGIN:VEVENT
DTSTART;VALUE=DATE:20251001
DTEND;VALUE=DATE:20251002
DTSTAMP:20260423T101650
CREATED:20250903T204246Z
LAST-MODIFIED:20250926T150846Z
UID:478-1759276800-1759363199@www.italianheritagemonth.com
SUMMARY:OIHM Kick off at State House
DESCRIPTION:The Consul General of Italy in Boston Arnaldo Minuti and the October as Italian Heritage Month Committee cordially invite you to attend the 26th Anniversary of October as Italian Heritage Month. \nWednesday\, October 1st\, 2025 at 6pm\nState House\, 3rd Floor ~ House of Representatives \nHonoring\nHon. Frank Caprio (posthumously) \nEmilia Fazzalari Lidia Bastianich \nMaster of Ceremonies \nHon. Ronald J. Mariano \nFree event – Refreshments \nAll are welcome to attend \n  \n\n  \n \n 
URL:https://www.italianheritagemonth.com/event/oihm-kick-off-at-state-house/
END:VEVENT
BEGIN:VEVENT
DTSTART;TZID=America/New_York:20241011T090000
DTEND;TZID=America/New_York:20241011T170000
DTSTAMP:20260423T101650
CREATED:20250806T182546Z
LAST-MODIFIED:20250806T182558Z
UID:225-1728637200-1728666000@www.italianheritagemonth.com
SUMMARY:14th Annual Italian Heritage Golf Classic
DESCRIPTION:9:00 AM \n14th Annual Italian Heritage Golf Classic 4-man teams\, proceeds to benefit the Italian Heritage Scholarship Fund\, Cooley’s Annemia Foundation\, and the Alzheimer’s Association | Continental Breakfast and Buffet Luncheon \n$150.00 per player \nSPONSOR: Angelo Giuseppe Roncalli Lodge # 2183 \nLOCATION:\nHillview Golf Course\n149 North Street\nNorth Reading \nMA CONTACT:\nKevin Caira\n978-657-7734 or 508-633-2681\nKevincaira57@gmail.com
URL:https://www.italianheritagemonth.com/event/14th-annual-italian-heritage-golf-classic/
END:VEVENT
BEGIN:VEVENT
DTSTART;TZID=America/New_York:20241010T190000
DTEND;TZID=America/New_York:20241010T210000
DTSTAMP:20260423T101650
CREATED:20250806T182419Z
LAST-MODIFIED:20250806T182419Z
UID:223-1728586800-1728594000@www.italianheritagemonth.com
SUMMARY:Dante Film Night: Screening The Young Montalbano
DESCRIPTION:7:00 PM \nJoin us for the next Montalbano episode | Refreshments \n SPONSOR: Dante Alighieri Society \nLOCATION:\nDante Alighieri Society\n41 Hampshire Street\nCambridge\, MA \nMA CONTACT: admin@dantemass.org
URL:https://www.italianheritagemonth.com/event/dante-film-night-screening-the-young-montalbano/
END:VEVENT
BEGIN:VEVENT
DTSTART;TZID=America/New_York:20241010T183000
DTEND;TZID=America/New_York:20241010T200000
DTSTAMP:20260423T101650
CREATED:20250806T182222Z
LAST-MODIFIED:20250806T182248Z
UID:221-1728585000-1728590400@www.italianheritagemonth.com
SUMMARY:Renato Poliafito Presents Dolci!
DESCRIPTION:6:30 PM \nCookbook author Poliafito presents his latest book Dolci! American Baking with an Italian Accent \nSPONSOR: I AM Books \nLOCATION: I AM Books\, 124 Salem St.
URL:https://www.italianheritagemonth.com/event/renato-poliafito-presents-dolci/
END:VEVENT
BEGIN:VEVENT
DTSTART;TZID=America/New_York:20241010T183000
DTEND;TZID=America/New_York:20241010T200000
DTSTAMP:20260423T101650
CREATED:20250806T182103Z
LAST-MODIFIED:20250806T182204Z
UID:219-1728585000-1728590400@www.italianheritagemonth.com
SUMMARY:Italian Language for Travelers
DESCRIPTION:6:30 PM \nBite size introduction to the Italian Language for Travelers Cookies\, soft drinks\, and coffee \nFree  \nSPONSOR: Angelo Giuseppe Roncalli Lodge # 2183 \nLOCATION:\nWilmington Memorial Library\n175 Middlesex Ave.\, Wilmington \nMA CONTACT:\nMichele Siracusa\n978-604-6437\nmnortonen@gmail.com
URL:https://www.italianheritagemonth.com/event/italian-language-for-travelers/
END:VEVENT
BEGIN:VEVENT
DTSTART;TZID=America/New_York:20241006T120000
DTEND;TZID=America/New_York:20241006T140000
DTSTAMP:20260423T101650
CREATED:20250806T172828Z
LAST-MODIFIED:20250806T172828Z
UID:215-1728216000-1728223200@www.italianheritagemonth.com
SUMMARY:Mass at St. Leonard's Church in the North End
DESCRIPTION:12 Noon \nCelebrating the 25th Anniversary of October as Italian-American Heritage Month. Celebrant will be Fr. Michael Della Penna. Refreshments served in the downstairs hall immediately following the Mass. \nPublic is welcomed.
URL:https://www.italianheritagemonth.com/event/mass-at-st-leonards-church-in-the-north-end/
END:VEVENT
BEGIN:VEVENT
DTSTART;TZID=America/New_York:20241005T183000
DTEND;TZID=America/New_York:20241005T220000
DTSTAMP:20260423T101650
CREATED:20250806T172705Z
LAST-MODIFIED:20250806T172721Z
UID:212-1728153000-1728165600@www.italianheritagemonth.com
SUMMARY:Italian Heritage Dinner Dance
DESCRIPTION:Cocktails – 6:30 PM / Dinner – 7:30 PM \nDinner: Maria’s Catering / Entertainment: Luciano Russo. Tickets must be purchased in advance by September 23\, 2024 | $75.00 per person  \nSPONSOR: Piave Fiume Lodge # 1036 (Watertown) \nLOCATION: Sons of Italy\, 520 Pleasant Street\, Watertown\, MA \nCONTACTS:\nFlorence Guidara / Lilia Viscomi\n617-877-7285 / 617-645-2969
URL:https://www.italianheritagemonth.com/event/italian-heritage-dinner-dance/
END:VEVENT
BEGIN:VEVENT
DTSTART;TZID=America/New_York:20241005T140000
DTEND;TZID=America/New_York:20241005T170000
DTSTAMP:20260423T101650
CREATED:20250806T172540Z
LAST-MODIFIED:20250806T172540Z
UID:210-1728136800-1728147600@www.italianheritagemonth.com
SUMMARY:Italian American Heritage BBQ
DESCRIPTION:2:00 PM \nBBQ to celebrate Italian Culture \n$50-Adults / $10-Kids  \nSPONSOR: South Shore Lodge # 1850 (Hingham) \nLOCATION: Sons of Italy\, 39 Kilby Street\, Hingham\, MA \nPurchase tickets at: hinghamsonsofitaly.com
URL:https://www.italianheritagemonth.com/event/italian-american-heritage-bbq/
END:VEVENT
BEGIN:VEVENT
DTSTART;TZID=America/New_York:20241005T120000
DTEND;TZID=America/New_York:20241005T170000
DTSTAMP:20260423T101650
CREATED:20250806T172424Z
LAST-MODIFIED:20250806T172424Z
UID:208-1728129600-1728147600@www.italianheritagemonth.com
SUMMARY:Chicken Barbeque
DESCRIPTION:12:00 PM \nBBQ with chicken\, hamburgers\, hot dogs\, sides\, dessert. Proceeds benefit the Lodge’s scholarship & charitable endeavors \n$25-Adults / $10-Children 6-12 / Free-Under 6  \nSPONSOR:\nBandiera e Concordia Lodge # 240\n(Marlborough) \nLOCATION:\nMarlborough Fish & Game Club\n1 Muddy Lane\nMarlborough\, MA \nCONTACT:\nBetty Evangelous\n508-380-9267
URL:https://www.italianheritagemonth.com/event/chicken-barbeque/
END:VEVENT
BEGIN:VEVENT
DTSTART;TZID=America/New_York:20241001T180000
DTEND;TZID=America/New_York:20241001T200000
DTSTAMP:20260423T101650
CREATED:20250806T172246Z
LAST-MODIFIED:20250806T172246Z
UID:206-1727805600-1727812800@www.italianheritagemonth.com
SUMMARY:October Italian Heritage Month Kick-Off Event
DESCRIPTION:6:00 PM \nEvent will honor Michael Colomba with the Entrepreneur Award\, Emilio Bizzi with the Education Award\, and Mary Ann Esposito with the Culinary Arts Award plus 5 Scholarship presentations | Buffet \nFree  \nSPONSOR: Italian Heritage Month Committee \nLOCATION:\nMassachusetts State House Chambers\n24 Beacon Street\nBoston\, MA \nCONTACT:\nKevin Caira\n978-657-7734 or 508-633-2681\nKevincaira57@gmail.com
URL:https://www.italianheritagemonth.com/event/october-italian-heritage-month-kick-off-event/
END:VEVENT
BEGIN:VEVENT
DTSTART;TZID=America/New_York:20221002T110000
DTEND;TZID=America/New_York:20221002T140000
DTSTAMP:20260423T101650
CREATED:20250806T145551Z
LAST-MODIFIED:20250806T145551Z
UID:200-1664708400-1664719200@www.italianheritagemonth.com
SUMMARY:MASKS IN MOTION: Commedia dell’Arte Intensive Workshop
DESCRIPTION:11:00 AM to 2:00 PM each day \nTake a fascinating journey into the origins of comedy. Explore the stock characters’ exaggerated physicality\, the masks and the improvised scenarios. It’s a great work-out\, so dress comfortably! \nMore info at www.pazzilazzitroupe.com \nSPONSOR: Pazzi Lazzi Troupe \nLOCATION:\nArts at the Armory\, Top Floor\n191 Highland Avenue\, Somerville \nMA CONTACT:\nChiara Durazzini\npazzilazzitroupe@gmail.com\nphone: 617-320-9466
URL:https://www.italianheritagemonth.com/event/masks-in-motion-commedia-dellarte-intensive-workshop-2/
END:VEVENT
BEGIN:VEVENT
DTSTART;TZID=America/New_York:20221001T183000
DTEND;TZID=America/New_York:20221001T210000
DTSTAMP:20260423T101650
CREATED:20250806T151215Z
LAST-MODIFIED:20250806T151215Z
UID:203-1664649000-1664658000@www.italianheritagemonth.com
SUMMARY:Taste of Italy Dinner Dance
DESCRIPTION:Enjoy a night of Italian cuisine and Italian entertainment by Sandro Russo. \nAntipasto\, Cavatelli in a tomato sauce\, Linguini & Clams\, Veal Marsala\, Chicken Cacciatore\, Vegetable Medley\, Spumoni\, Coffee & Tea. \n$80.00  \nSPONSOR: Piave Fiume Lodge # 1036 of Watertown \nLOCATION:\nSons of Italy\n520 Pleasant Street\nWatertown\, \nMA CONTACT: Florence Guidara 617-877-7285
URL:https://www.italianheritagemonth.com/event/taste-of-italy-dinner-dance/
END:VEVENT
BEGIN:VEVENT
DTSTART;TZID=America/New_York:20221001T110000
DTEND;TZID=America/New_York:20221001T140000
DTSTAMP:20260423T101650
CREATED:20250806T145421Z
LAST-MODIFIED:20250806T145610Z
UID:198-1664622000-1664632800@www.italianheritagemonth.com
SUMMARY:MASKS IN MOTION: Commedia dell’Arte Intensive Workshop
DESCRIPTION:11:00 AM to 2:00 PM each day \nTake a fascinating journey into the origins of comedy. Explore the stock characters’ exaggerated physicality\, the masks and the improvised scenarios. It’s a great work-out\, so dress comfortably! \nMore info at www.pazzilazzitroupe.com \nSPONSOR: Pazzi Lazzi Troupe \nLOCATION:\nArts at the Armory\, Top Floor\n191 Highland Avenue\, Somerville \nMA CONTACT:\nChiara Durazzini\npazzilazzitroupe@gmail.com\nphone: 617-320-9466
URL:https://www.italianheritagemonth.com/event/masks-in-motion-commedia-dellarte-intensive-workshop/
END:VEVENT
END:VCALENDAR